BEGIN:VCALENDAR
VERSION:2.0
PRODID:-//C Club - ECPv4.2.7//NONSGML v1.0//EN
CALSCALE:GREGORIAN
METHOD:PUBLISH
X-WR-CALNAME:C Club
X-ORIGINAL-URL:http://cclubkuwait.com
X-WR-CALDESC:Events for C Club
BEGIN:VEVENT
DTSTART;TZID=Asia/Kuwait:20250128T180000
DTEND;TZID=Asia/Kuwait:20250128T190000
DTSTAMP:20260420T023804
CREATED:20250126T000448
LAST-MODIFIED:20250126T000448
UID:909-1738087200-1738090800@cclubkuwait.com
SUMMARY:Yoga
DESCRIPTION:
URL:http://cclubkuwait.com/event/yoga-5/
LOCATION:Kuwait
END:VEVENT
END:VCALENDAR