BEGIN:VCALENDAR
VERSION:2.0
PRODID:-//C Club - ECPv4.2.7//NONSGML v1.0//EN
CALSCALE:GREGORIAN
METHOD:PUBLISH
X-WR-CALNAME:C Club
X-ORIGINAL-URL:http://cclubkuwait.com
X-WR-CALDESC:Events for C Club
BEGIN:VEVENT
DTSTART;TZID=Asia/Kuwait:20250127T180000
DTEND;TZID=Asia/Kuwait:20250127T190000
DTSTAMP:20260419T214844
CREATED:20250125T235957
LAST-MODIFIED:20250125T235957
UID:914-1738000800-1738004400@cclubkuwait.com
SUMMARY:Yoga
DESCRIPTION:
URL:http://cclubkuwait.com/event/yoga-4/
LOCATION:Kuwait
END:VEVENT
END:VCALENDAR