BEGIN:VCALENDAR
VERSION:2.0
PRODID:-//C Club - ECPv4.2.7//NONSGML v1.0//EN
CALSCALE:GREGORIAN
METHOD:PUBLISH
X-WR-CALNAME:C Club
X-ORIGINAL-URL:http://cclubkuwait.com
X-WR-CALDESC:Events for C Club
BEGIN:VEVENT
DTSTART;TZID=UTC+0:20250127T200000
DTEND;TZID=UTC+0:20250127T210000
DTSTAMP:20260419T234249
CREATED:20250125T174047
LAST-MODIFIED:20250125T233533
UID:863-1738008000-1738011600@cclubkuwait.com
SUMMARY:Salsa
DESCRIPTION:
URL:http://cclubkuwait.com/event/salsa-4/
LOCATION:Kuwait
END:VEVENT
END:VCALENDAR