BEGIN:VCALENDAR
VERSION:2.0
PRODID:-//C Club - ECPv4.2.7//NONSGML v1.0//EN
CALSCALE:GREGORIAN
METHOD:PUBLISH
X-WR-CALNAME:C Club
X-ORIGINAL-URL:http://cclubkuwait.com
X-WR-CALDESC:Events for C Club
BEGIN:VEVENT
DTSTART;TZID=UTC+0:20161002T180000
DTEND;TZID=UTC+0:20161002T190000
DTSTAMP:20260419T120150
CREATED:20161010T120923
LAST-MODIFIED:20161010T120923
UID:448-1475431200-1475434800@cclubkuwait.com
SUMMARY:Pilates
DESCRIPTION:
URL:http://cclubkuwait.com/event/pilates/2016-10-02/
LOCATION:Studio 1
GEO:44.9107979;-116.1064424
X-APPLE-STRUCTURED-LOCATION;VALUE=URI;X-ADDRESS=Studio 1;X-APPLE-RADIUS=500;X-TITLE=Studio 1:geo:-116.1064424,44.9107979
END:VEVENT
END:VCALENDAR