BEGIN:VCALENDAR
VERSION:2.0
PRODID:-//C Club - ECPv4.2.7//NONSGML v1.0//EN
CALSCALE:GREGORIAN
METHOD:PUBLISH
X-WR-CALNAME:C Club
X-ORIGINAL-URL:http://cclubkuwait.com
X-WR-CALDESC:Events for C Club
BEGIN:VEVENT
DTSTART;TZID=Asia/Kuwait:20250126T110000
DTEND;TZID=Asia/Kuwait:20250126T114500
DTSTAMP:20260419T220141
CREATED:20250125T234826
LAST-MODIFIED:20250125T234826
UID:889-1737889200-1737891900@cclubkuwait.com
SUMMARY:Lower Body
DESCRIPTION:
URL:http://cclubkuwait.com/event/lower-body/
LOCATION:Kuwait
END:VEVENT
END:VCALENDAR