BEGIN:VCALENDAR
VERSION:2.0
PRODID:-//C Club - ECPv4.2.7//NONSGML v1.0//EN
CALSCALE:GREGORIAN
METHOD:PUBLISH
X-WR-CALNAME:C Club
X-ORIGINAL-URL:http://cclubkuwait.com
X-WR-CALDESC:Events for C Club
BEGIN:VEVENT
DTSTART;TZID=Asia/Kuwait:20250126T180000
DTEND;TZID=Asia/Kuwait:20250126T184500
DTSTAMP:20260419T182628
CREATED:20250125T235253
LAST-MODIFIED:20250125T235508
UID:906-1737914400-1737917100@cclubkuwait.com
SUMMARY:Bootcamp
DESCRIPTION:
URL:http://cclubkuwait.com/event/bootcamp/
LOCATION:Kuwait
END:VEVENT
END:VCALENDAR